BEGIN:VCALENDAR
VERSION:2.0
PRODID:-//Sedalia Convention &amp; Visitors Bureau - ECPv6.15.20//NONSGML v1.0//EN
CALSCALE:GREGORIAN
METHOD:PUBLISH
X-WR-CALNAME:Sedalia Convention &amp; Visitors Bureau
X-ORIGINAL-URL:https://www.visitsedaliamo.com
X-WR-CALDESC:Events for Sedalia Convention &amp; Visitors Bureau
REFRESH-INTERVAL;VALUE=DURATION:PT1H
X-Robots-Tag:noindex
X-PUBLISHED-TTL:PT1H
BEGIN:VTIMEZONE
TZID:America/Chicago
BEGIN:DAYLIGHT
TZOFFSETFROM:-0600
TZOFFSETTO:-0500
TZNAME:CDT
DTSTART:20230312T080000
END:DAYLIGHT
BEGIN:STANDARD
TZOFFSETFROM:-0500
TZOFFSETTO:-0600
TZNAME:CST
DTSTART:20231105T070000
END:STANDARD
BEGIN:DAYLIGHT
TZOFFSETFROM:-0600
TZOFFSETTO:-0500
TZNAME:CDT
DTSTART:20240310T080000
END:DAYLIGHT
BEGIN:STANDARD
TZOFFSETFROM:-0500
TZOFFSETTO:-0600
TZNAME:CST
DTSTART:20241103T070000
END:STANDARD
BEGIN:DAYLIGHT
TZOFFSETFROM:-0600
TZOFFSETTO:-0500
TZNAME:CDT
DTSTART:20250309T080000
END:DAYLIGHT
BEGIN:STANDARD
TZOFFSETFROM:-0500
TZOFFSETTO:-0600
TZNAME:CST
DTSTART:20251102T070000
END:STANDARD
END:VTIMEZONE
BEGIN:VEVENT
DTSTART;TZID=America/Chicago:20241004T193000
DTEND;TZID=America/Chicago:20241004T213000
DTSTAMP:20260422T042540
CREATED:20241011T021710Z
LAST-MODIFIED:20251105T034503Z
UID:10002456-1728070200-1728077400@www.visitsedaliamo.com
SUMMARY:One Night Stand: 5th Street Improv Falls In Love!
DESCRIPTION:One Night Stand: 5th Street Improv Falls In Love! \nWitty. Silly. Enjoy a hilarious night of improvisational comedy by 5th Street Improv. The performers are unscripted and create the humor off-the-cuff. Audience suggestions make each performance unique. \nRated: PG
URL:https://www.visitsedaliamo.com/event/one-night-stand-5th-street-improv-falls-in-love/
LOCATION:Liberty Center Association for the Arts\, 111 West 5th Street\, Sedalia\, MO\, 65301\, United States
ATTACH;FMTTYPE=image/jpeg:https://www.visitsedaliamo.com/wp-content/uploads/2025/11/5th-Street-Improv-Falls-in-Love-SMALL.jpg
END:VEVENT
END:VCALENDAR