BEGIN:VCALENDAR
VERSION:2.0
PRODID:-//Sedalia Convention &amp; Visitors Bureau - ECPv6.15.20//NONSGML v1.0//EN
CALSCALE:GREGORIAN
METHOD:PUBLISH
X-WR-CALNAME:Sedalia Convention &amp; Visitors Bureau
X-ORIGINAL-URL:https://www.visitsedaliamo.com
X-WR-CALDESC:Events for Sedalia Convention &amp; Visitors Bureau
REFRESH-INTERVAL;VALUE=DURATION:PT1H
X-Robots-Tag:noindex
X-PUBLISHED-TTL:PT1H
BEGIN:VTIMEZONE
TZID:America/Chicago
BEGIN:DAYLIGHT
TZOFFSETFROM:-0600
TZOFFSETTO:-0500
TZNAME:CDT
DTSTART:20250309T080000
END:DAYLIGHT
BEGIN:STANDARD
TZOFFSETFROM:-0500
TZOFFSETTO:-0600
TZNAME:CST
DTSTART:20251102T070000
END:STANDARD
BEGIN:DAYLIGHT
TZOFFSETFROM:-0600
TZOFFSETTO:-0500
TZNAME:CDT
DTSTART:20260308T080000
END:DAYLIGHT
BEGIN:STANDARD
TZOFFSETFROM:-0500
TZOFFSETTO:-0600
TZNAME:CST
DTSTART:20261101T070000
END:STANDARD
BEGIN:DAYLIGHT
TZOFFSETFROM:-0600
TZOFFSETTO:-0500
TZNAME:CDT
DTSTART:20270314T080000
END:DAYLIGHT
BEGIN:STANDARD
TZOFFSETFROM:-0500
TZOFFSETTO:-0600
TZNAME:CST
DTSTART:20271107T070000
END:STANDARD
END:VTIMEZONE
BEGIN:VEVENT
DTSTART;TZID=America/Chicago:20260312T170000
DTEND;TZID=America/Chicago:20260430T170000
DTSTAMP:20260421T101925
CREATED:20260212T221419Z
LAST-MODIFIED:20260212T221419Z
UID:10002778-1773334800-1777568400@www.visitsedaliamo.com
SUMMARY:Sedalia Visual Arts Association Spring Fling Art Show
DESCRIPTION:The Sedalia Visual Art Association presents its annual Spring Fling Art show at the Liberty Center galleries. This show consists of local artist’s work in mediums such as paint\, collage\, ceramics\, glass\, fabric art\, photographs and much more.\nOpening reception with artists is Thursday\, March 12 from 5-7 p.m. Show runs through April\, 2026.
URL:https://www.visitsedaliamo.com/event/sedalia-visual-arts-association-spring-fling-art-show/
LOCATION:Liberty Center Association for the Arts\, 111 West 5th Street\, Sedalia\, MO\, 65301\, United States
ATTACH;FMTTYPE=image/jpeg:https://www.visitsedaliamo.com/wp-content/uploads/2026/01/IMG_7146-square-small.jpg
END:VEVENT
BEGIN:VEVENT
DTSTART;VALUE=DATE:20260429
DTEND;VALUE=DATE:20260504
DTSTAMP:20260421T101925
CREATED:20260209T055036Z
LAST-MODIFIED:20260319T145606Z
UID:10002789-1777489200-1777834799@www.visitsedaliamo.com
SUMMARY:Blacksmith Association of Missouri
DESCRIPTION:
URL:https://www.visitsedaliamo.com/event/blacksmith-association-of-missouri/
LOCATION:FFA Building
END:VEVENT
BEGIN:VEVENT
DTSTART;VALUE=DATE:20260430
DTEND;VALUE=DATE:20260504
DTSTAMP:20260421T101925
CREATED:20260209T055036Z
LAST-MODIFIED:20260319T145606Z
UID:10002788-1777575600-1777834799@www.visitsedaliamo.com
SUMMARY:BK Promotions Spring Gun Show
DESCRIPTION:
URL:https://www.visitsedaliamo.com/event/bk-promotions-spring-gun-show/
LOCATION:Agriculture Building\, Sedalia|Sedalia\, Missouri|Missouri\, 65301|65301\, United States|United States
END:VEVENT
BEGIN:VEVENT
DTSTART;TZID=America/Chicago:20260430T193000
DTEND;TZID=America/Chicago:20260430T213000
DTSTAMP:20260421T101925
CREATED:20260216T105539Z
LAST-MODIFIED:20260216T105638Z
UID:10002791-1777577400-1777584600@www.visitsedaliamo.com
SUMMARY:Ride The Cyclone: The Musical
DESCRIPTION:Ride the Cyclone is a dark musical comedy about six teenagers from a Canadian chamber choir who die in a freak roller coaster accident. Stuck in limbo\, they are challenged by a mechanical fortune-teller\, The Amazing Karnak\, to sing their life stories and compete for the chance to be resurrected.
URL:https://www.visitsedaliamo.com/event/ride-the-cyclone-the-musical/2026-04-30/
LOCATION:Liberty Center Association for the Arts\, 111 West 5th Street\, Sedalia\, MO\, 65301\, United States
ATTACH;FMTTYPE=image/jpeg:https://www.visitsedaliamo.com/wp-content/uploads/2026/02/Cyclone-square-with-coaster.jpg
END:VEVENT
END:VCALENDAR