BEGIN:VCALENDAR
VERSION:2.0
PRODID:-//Sedalia Convention &amp; Visitors Bureau - ECPv6.15.20//NONSGML v1.0//EN
CALSCALE:GREGORIAN
METHOD:PUBLISH
X-WR-CALNAME:Sedalia Convention &amp; Visitors Bureau
X-ORIGINAL-URL:https://www.visitsedaliamo.com
X-WR-CALDESC:Events for Sedalia Convention &amp; Visitors Bureau
REFRESH-INTERVAL;VALUE=DURATION:PT1H
X-Robots-Tag:noindex
X-PUBLISHED-TTL:PT1H
BEGIN:VTIMEZONE
TZID:America/Chicago
BEGIN:DAYLIGHT
TZOFFSETFROM:-0600
TZOFFSETTO:-0500
TZNAME:CDT
DTSTART:20100314T080000
END:DAYLIGHT
BEGIN:STANDARD
TZOFFSETFROM:-0500
TZOFFSETTO:-0600
TZNAME:CST
DTSTART:20101107T070000
END:STANDARD
BEGIN:DAYLIGHT
TZOFFSETFROM:-0600
TZOFFSETTO:-0500
TZNAME:CDT
DTSTART:20110313T080000
END:DAYLIGHT
BEGIN:STANDARD
TZOFFSETFROM:-0500
TZOFFSETTO:-0600
TZNAME:CST
DTSTART:20111106T070000
END:STANDARD
BEGIN:DAYLIGHT
TZOFFSETFROM:-0600
TZOFFSETTO:-0500
TZNAME:CDT
DTSTART:20120311T080000
END:DAYLIGHT
BEGIN:STANDARD
TZOFFSETFROM:-0500
TZOFFSETTO:-0600
TZNAME:CST
DTSTART:20121104T070000
END:STANDARD
BEGIN:DAYLIGHT
TZOFFSETFROM:-0600
TZOFFSETTO:-0500
TZNAME:CDT
DTSTART:20130310T080000
END:DAYLIGHT
BEGIN:STANDARD
TZOFFSETFROM:-0500
TZOFFSETTO:-0600
TZNAME:CST
DTSTART:20131103T070000
END:STANDARD
BEGIN:DAYLIGHT
TZOFFSETFROM:-0600
TZOFFSETTO:-0500
TZNAME:CDT
DTSTART:20140309T080000
END:DAYLIGHT
BEGIN:STANDARD
TZOFFSETFROM:-0500
TZOFFSETTO:-0600
TZNAME:CST
DTSTART:20141102T070000
END:STANDARD
BEGIN:DAYLIGHT
TZOFFSETFROM:-0600
TZOFFSETTO:-0500
TZNAME:CDT
DTSTART:20150308T080000
END:DAYLIGHT
BEGIN:STANDARD
TZOFFSETFROM:-0500
TZOFFSETTO:-0600
TZNAME:CST
DTSTART:20151101T070000
END:STANDARD
BEGIN:DAYLIGHT
TZOFFSETFROM:-0600
TZOFFSETTO:-0500
TZNAME:CDT
DTSTART:20160313T080000
END:DAYLIGHT
BEGIN:STANDARD
TZOFFSETFROM:-0500
TZOFFSETTO:-0600
TZNAME:CST
DTSTART:20161106T070000
END:STANDARD
BEGIN:DAYLIGHT
TZOFFSETFROM:-0600
TZOFFSETTO:-0500
TZNAME:CDT
DTSTART:20170312T080000
END:DAYLIGHT
BEGIN:STANDARD
TZOFFSETFROM:-0500
TZOFFSETTO:-0600
TZNAME:CST
DTSTART:20171105T070000
END:STANDARD
BEGIN:DAYLIGHT
TZOFFSETFROM:-0600
TZOFFSETTO:-0500
TZNAME:CDT
DTSTART:20180311T080000
END:DAYLIGHT
BEGIN:STANDARD
TZOFFSETFROM:-0500
TZOFFSETTO:-0600
TZNAME:CST
DTSTART:20181104T070000
END:STANDARD
BEGIN:DAYLIGHT
TZOFFSETFROM:-0600
TZOFFSETTO:-0500
TZNAME:CDT
DTSTART:20190310T080000
END:DAYLIGHT
BEGIN:STANDARD
TZOFFSETFROM:-0500
TZOFFSETTO:-0600
TZNAME:CST
DTSTART:20191103T070000
END:STANDARD
BEGIN:DAYLIGHT
TZOFFSETFROM:-0600
TZOFFSETTO:-0500
TZNAME:CDT
DTSTART:20200308T080000
END:DAYLIGHT
BEGIN:STANDARD
TZOFFSETFROM:-0500
TZOFFSETTO:-0600
TZNAME:CST
DTSTART:20201101T070000
END:STANDARD
BEGIN:DAYLIGHT
TZOFFSETFROM:-0600
TZOFFSETTO:-0500
TZNAME:CDT
DTSTART:20210314T080000
END:DAYLIGHT
BEGIN:STANDARD
TZOFFSETFROM:-0500
TZOFFSETTO:-0600
TZNAME:CST
DTSTART:20211107T070000
END:STANDARD
END:VTIMEZONE
BEGIN:VEVENT
DTSTART;TZID=America/Chicago:20200812T130000
DTEND;TZID=America/Chicago:20200812T150000
DTSTAMP:20260420T005035
CREATED:20201010T012232Z
LAST-MODIFIED:20251105T033006Z
UID:10000098-1597237200-1597244400@www.visitsedaliamo.com
SUMMARY:Doggie Dive - Centennial Pool
DESCRIPTION:Doggie Dive Centennial Pool 6pm-8pm $5 per dog The Pools have gone to the dogs! Here’s an opportunity for your pooch to beat the heat and just have a “dog gone” good time. Open to all friendly dogs and their owners.  • Dogs must remain under owner’s control at all times.  • Dogs must remain leashed until inside the pool gates. No free running!  • Proof of current vaccinations required.  • Owners are responsible for any “accidents.”  • Any dogs not obeying rules and/or causing a disturbance will be asked to leave.   This program is only held once a year at each pool before we drain the water for the season\, so don’t miss out on the fun; $5.00/dog at the gate. All proceeds go towards new equipment for our dog park. Due to health concerns\, no humans will be allowed in the water with their dogs.
URL:https://www.visitsedaliamo.com/event/doggie-dive-centennial-pool/
LOCATION:Centennial Pool\, Sedalia|Sedalia\, Missouri|Missouri\, 65301|65301\, United States|United States
END:VEVENT
BEGIN:VEVENT
DTSTART;TZID=America/Chicago:20110924T033000
DTEND;TZID=America/Chicago:20110924T033000
DTSTAMP:20260420T005035
CREATED:20201010T012231Z
LAST-MODIFIED:20251105T033003Z
UID:10000085-1316835000-1316835000@www.visitsedaliamo.com
SUMMARY:JOURNEY FOR HOPE BRAIN INJURY AWARENESS 5K RUN/WALK
DESCRIPTION:BRAIN INJURY AWARENESS 5K RUN AND WALK   Saturday\, September 24Race begins at 8:30 a.m.Missouri State Fairgrounds – Sedalia(Parking near swine pavilion\, Gate 6A) REGISTER TODAY!!WWW.JOURNEYFORHOPE.NETor call: 660.221.1850 – $20 entry fee includes t-shirt.- FREE registration for all TBI survivors.- All proceeds benefit traumatic brain injury survivors in Missouri. In partnership with:Brain Injury Association of MissouriCenters for Independent Living
URL:https://www.visitsedaliamo.com/event/journey-for-hope-brain-injury-awareness-5k-run-walk/
LOCATION:Missouri State Fairgrounds — Sedalia — Enter through Gate 6A\, Sedalia|Sedalia\, Missouri|Missouri\, 65301|65301\, United States|United States
END:VEVENT
END:VCALENDAR