BEGIN:VCALENDAR
VERSION:2.0
PRODID:-//Sedalia Convention &amp; Visitors Bureau - ECPv6.15.20//NONSGML v1.0//EN
CALSCALE:GREGORIAN
METHOD:PUBLISH
X-ORIGINAL-URL:https://www.visitsedaliamo.com
X-WR-CALDESC:Events for Sedalia Convention &amp; Visitors Bureau
REFRESH-INTERVAL;VALUE=DURATION:PT1H
X-Robots-Tag:noindex
X-PUBLISHED-TTL:PT1H
BEGIN:VTIMEZONE
TZID:America/Chicago
BEGIN:DAYLIGHT
TZOFFSETFROM:-0600
TZOFFSETTO:-0500
TZNAME:CDT
DTSTART:20230312T080000
END:DAYLIGHT
BEGIN:STANDARD
TZOFFSETFROM:-0500
TZOFFSETTO:-0600
TZNAME:CST
DTSTART:20231105T070000
END:STANDARD
BEGIN:DAYLIGHT
TZOFFSETFROM:-0600
TZOFFSETTO:-0500
TZNAME:CDT
DTSTART:20240310T080000
END:DAYLIGHT
BEGIN:STANDARD
TZOFFSETFROM:-0500
TZOFFSETTO:-0600
TZNAME:CST
DTSTART:20241103T070000
END:STANDARD
BEGIN:DAYLIGHT
TZOFFSETFROM:-0600
TZOFFSETTO:-0500
TZNAME:CDT
DTSTART:20250309T080000
END:DAYLIGHT
BEGIN:STANDARD
TZOFFSETFROM:-0500
TZOFFSETTO:-0600
TZNAME:CST
DTSTART:20251102T070000
END:STANDARD
END:VTIMEZONE
BEGIN:VEVENT
DTSTART;TZID=America/Chicago:20241102T100000
DTEND;TZID=America/Chicago:20241102T140000
DTSTAMP:20260422T042811
CREATED:20241011T021709Z
LAST-MODIFIED:20251105T034507Z
UID:10002464-1730541600-1730556000@www.visitsedaliamo.com
SUMMARY:KMOS-PBS Be My Neighbor Day
DESCRIPTION:Join us at the Liberty Center for a fun-filled day of activities and excitement. This in-person event is perfect for families looking to hava agreat time together. Meet Daniel Tiger\, community helpers and enjoy fun activities.  \nSpace is limited. Get your FREE tickets at kmos.org/bemyneighborday
URL:https://www.visitsedaliamo.com/event/kmos-pbs-be-my-neighbor-day/
LOCATION:Liberty Center Association for the Arts\, 111 West 5th Street\, Sedalia\, MO\, 65301\, United States
ATTACH;FMTTYPE=image/jpeg:https://www.visitsedaliamo.com/wp-content/uploads/2025/11/26e844fba6_Daniel-Friends-Logo_print-CMYK-SMALL.jpg
END:VEVENT
BEGIN:VEVENT
DTSTART;TZID=America/Chicago:20241108T190000
DTEND;TZID=America/Chicago:20241108T210000
DTSTAMP:20260422T042811
CREATED:20240802T190752Z
LAST-MODIFIED:20251105T034457Z
UID:10002448-1731092400-1731099600@www.visitsedaliamo.com
SUMMARY:Twitty and Lynn: A Salute to Conway and Loretta
DESCRIPTION:SPECIAL EVENT \nTayla Lynn and Tre Twitty have country music in their blood. The grandchildren of famed duo Loretta Lynn and Conway Twitty\, the two have taken to the road to honor their grandparents in an intimate evening of music and storytelling as only they can tell.\nTwitty and Lynn: A Salute to Conway and Loretta is one of the most unique shows in all of Country Music. \nNOTE: No discounts will be honored for this LCAA Special Event concert.
URL:https://www.visitsedaliamo.com/event/twitty-and-lynn-a-salute-to-conway-and-loretta/
LOCATION:Liberty Center Association for the Arts\, 111 West 5th Street\, Sedalia\, MO\, 65301\, United States
ATTACH;FMTTYPE=image/jpeg:https://www.visitsedaliamo.com/wp-content/uploads/2025/11/Twitty-Lynn-with-name-square-small.jpg
END:VEVENT
BEGIN:VEVENT
DTSTART;TZID=America/Chicago:20241113T070000
DTEND;TZID=America/Chicago:20241116T170000
DTSTAMP:20260422T042811
CREATED:20240801T194121Z
LAST-MODIFIED:20251105T034444Z
UID:10000084-1731481200-1731776400@www.visitsedaliamo.com
SUMMARY:Louisville 2024 Excursion
DESCRIPTION:Experience the sights\, sounds and spirits of Louisville! November 13-16\, 2024\nJoin the Liberty Center on a trip to the “Derby City.” Explore famous landmarks and an out-of-the-park museum. Wet your whistle at a Speakeasy bourbon tasting and get in the holiday spirit with a “wonderful” dinner theatre show. Tasty meals\, comfortable accommodations and so much more. Call the Liberty Center at 660-827-3228 to get the details and reserve your seat for our first ever excursion.
URL:https://www.visitsedaliamo.com/event/louisville-2024-excursion/
LOCATION:Liberty Center Association for the Arts\, 111 West 5th Street\, Sedalia\, MO\, 65301\, United States
ATTACH;FMTTYPE=image/jpeg:https://www.visitsedaliamo.com/wp-content/uploads/2025/11/2024-Louisville-Cover-scaled-1.jpg
END:VEVENT
BEGIN:VEVENT
DTSTART;TZID=America/Chicago:20241115T193000
DTEND;TZID=America/Chicago:20241115T213000
DTSTAMP:20260422T042811
CREATED:20240802T192226Z
LAST-MODIFIED:20251105T034459Z
UID:10002449-1731699000-1731706200@www.visitsedaliamo.com
SUMMARY:5th Street Improv
DESCRIPTION:Witty. Silly. Enjoy a hilarious night of improvisational comedy by 5th Street Improv. The performers are unscripted and create the humor off-the-cuff. Audience suggestions make each performance unique. \nRated: PG
URL:https://www.visitsedaliamo.com/event/5th-street-improv-5/
LOCATION:Liberty Center Association for the Arts\, 111 West 5th Street\, Sedalia\, MO\, 65301\, United States
ATTACH;FMTTYPE=image/jpeg:https://www.visitsedaliamo.com/wp-content/uploads/2025/11/5th-Street-Improv-Square-Logo-SMALL.jpg
END:VEVENT
BEGIN:VEVENT
DTSTART;TZID=America/Chicago:20241127T180000
DTEND;TZID=America/Chicago:20241127T200000
DTSTAMP:20260422T042811
CREATED:20241025T052104Z
LAST-MODIFIED:20251105T034508Z
UID:10002469-1732730400-1732737600@www.visitsedaliamo.com
SUMMARY:Dirt Road Addiction Farewell Concert
DESCRIPTION:Local favorites\, Dirt Road Addiction\, will be performing their Farewell Concert on the Liberty Center Mainstage\, Wednesday\, November 27 at 6 p.m. \nThey play a heavy mix of modern country\, rock\, pop\, and more which is evident through their extremely diverse setlists and their original music. ​ \nTheir fans\, “Dirt Road Addicts” have proven time and time again that they will follow this band all over the Midwest to have a good time. \nThis is a FREE concert.
URL:https://www.visitsedaliamo.com/event/dirt-road-addiction-farewell-concert/
LOCATION:Liberty Center Association for the Arts\, 111 West 5th Street\, Sedalia\, MO\, 65301\, United States
ATTACH;FMTTYPE=image/jpeg:https://www.visitsedaliamo.com/wp-content/uploads/2025/11/DRA-Square-small-3.jpg
END:VEVENT
BEGIN:VEVENT
DTSTART;TZID=America/Chicago:20241128T173000
DTEND;TZID=America/Chicago:20241128T203000
DTSTAMP:20260422T042811
CREATED:20241108T013959Z
LAST-MODIFIED:20251105T034511Z
UID:10002473-1732815000-1732825800@www.visitsedaliamo.com
SUMMARY:Thanksgiving Night Lighting and Fireworks Celebration
DESCRIPTION:Join us in downtown Sedalia at the courthouse square to kick off the Holiday season and with Hotel Bothwell’s annual Thanksgiving Night Lighting and Fireworks Celebration!\n\nThursday\, November 28th (Thanksgiving Night)Historic Downtown Sedalia | Hotel BothwellCountdown begins at 7:00pm\n\nA FREE event for the community\, a countdown to lighting the Hotel Bothwell and surrounding businesses begins at 7:00 p.m. with a firework display synchronized to Holiday music to immediately follow.\nBeginning at 5:30 PM\, downtown businesses and restaurants will open their doors to offer a unique evening of shopping and dining. Stay tuned for more details on exciting specials and offerings!\n\nEvent Sponsored By:Hotel BothwellCity of SedaliaSedalia Main Streets\n\nA Special Thank You to:Sedalia Police DepartmentSedalia Fire DepartmentMayor Andrew DawsonMs. Joleigh Cornine with Sedalia Main StreetsMs. Ashlei Boeschen with Smith-Cotton High School Queen City CAPSMs. Ashlyn Gerlt with Smith-Cotton High School Queen City CAPS
URL:https://www.visitsedaliamo.com/event/thanksgiving-night-lighting-and-fireworks-celebration/
LOCATION:103 E. 4th St.\, Sedalia\, MO.\, 103 E. 4th St.|103 E. 4th St.\, Sedalia|Sedalia\, MO|MO\, 65301|65301\, United States|United States
END:VEVENT
END:VCALENDAR