BEGIN:VCALENDAR
VERSION:2.0
PRODID:-//Sedalia Convention &amp; Visitors Bureau - ECPv6.15.20//NONSGML v1.0//EN
CALSCALE:GREGORIAN
METHOD:PUBLISH
X-WR-CALNAME:Sedalia Convention &amp; Visitors Bureau
X-ORIGINAL-URL:https://www.visitsedaliamo.com
X-WR-CALDESC:Events for Sedalia Convention &amp; Visitors Bureau
REFRESH-INTERVAL;VALUE=DURATION:PT1H
X-Robots-Tag:noindex
X-PUBLISHED-TTL:PT1H
BEGIN:VTIMEZONE
TZID:America/Chicago
BEGIN:DAYLIGHT
TZOFFSETFROM:-0600
TZOFFSETTO:-0500
TZNAME:CDT
DTSTART:20240310T080000
END:DAYLIGHT
BEGIN:STANDARD
TZOFFSETFROM:-0500
TZOFFSETTO:-0600
TZNAME:CST
DTSTART:20241103T070000
END:STANDARD
BEGIN:DAYLIGHT
TZOFFSETFROM:-0600
TZOFFSETTO:-0500
TZNAME:CDT
DTSTART:20250309T080000
END:DAYLIGHT
BEGIN:STANDARD
TZOFFSETFROM:-0500
TZOFFSETTO:-0600
TZNAME:CST
DTSTART:20251102T070000
END:STANDARD
BEGIN:DAYLIGHT
TZOFFSETFROM:-0600
TZOFFSETTO:-0500
TZNAME:CDT
DTSTART:20260308T080000
END:DAYLIGHT
BEGIN:STANDARD
TZOFFSETFROM:-0500
TZOFFSETTO:-0600
TZNAME:CST
DTSTART:20261101T070000
END:STANDARD
END:VTIMEZONE
BEGIN:VEVENT
DTSTART;VALUE=DATE:20250116
DTEND;VALUE=DATE:20250301
DTSTAMP:20260422T072911
CREATED:20250113T085901Z
LAST-MODIFIED:20251105T034534Z
UID:10002497-1736985600-1740787199@www.visitsedaliamo.com
SUMMARY:Yves Exilus Art Show
DESCRIPTION:Enjoy the photography and videography of this amazingly creative artist.  His show runs January 16-February 28\, 2025\, and is free.  Gallery hours are Tuesday through Friday\,  1-5 p.m. and 1 hour before and during other events at the Liberty Center.
URL:https://www.visitsedaliamo.com/event/yves-exilus-art-show/
LOCATION:Liberty Center Association for the Arts\, 111 West 5th Street\, Sedalia\, MO\, 65301\, United States
ATTACH;FMTTYPE=image/jpeg:https://www.visitsedaliamo.com/wp-content/uploads/2025/11/Exilus-Image-1.jpg
END:VEVENT
BEGIN:VEVENT
DTSTART;TZID=America/Chicago:20250116T170000
DTEND;TZID=America/Chicago:20250116T190000
DTSTAMP:20260422T072911
CREATED:20250113T085900Z
LAST-MODIFIED:20251105T034533Z
UID:10002496-1737046800-1737054000@www.visitsedaliamo.com
SUMMARY:Yves Exilus Art Show Opening Reception
DESCRIPTION:Enjoy the photography and videography of this amazingly creative artist.  His show runs January 16-February 28\, 2025\, with an opening reception on January 16 from 5-7 p.m.  Meet Yves\, see his work and enjoy refreshments.
URL:https://www.visitsedaliamo.com/event/yves-exilus-art-show-opening-reception/
LOCATION:Liberty Center Association for the Arts\, 111 West 5th Street\, Sedalia\, MO\, 65301\, United States
ATTACH;FMTTYPE=image/jpeg:https://www.visitsedaliamo.com/wp-content/uploads/2025/11/Exilus-Image.jpg
END:VEVENT
BEGIN:VEVENT
DTSTART;TZID=America/Chicago:20250116T180000
DTEND;TZID=America/Chicago:20250116T210000
DTSTAMP:20260422T072911
CREATED:20250113T085900Z
LAST-MODIFIED:20251105T034524Z
UID:10002488-1737050400-1737061200@www.visitsedaliamo.com
SUMMARY:Third Thursday Class - Nuno Felted Scarf
DESCRIPTION:Vicki Weaver is bringing felting back to the studio with Nuno felted scarves. The Nuno felted scarf is a featherweight creation with a totally unique surface design. In this three hour make and take we will use this wet felting technique where wool fibers migrate through silk fabric and entangle. The wool eventually shrinks\, pulling the fabric along with it\,the result is an incredibly lightweight garment that drapes beautifully to create a lovely\, textured scarf. \nThis workshop is designed for beginners and requires gentle\, repetitive\, upper arm movement. Participants are encouraged to bring their personal assortment of fabric bits\, yarn\, and/or thread remnants to embellish their piece. All supplies are provided but we do ask participants bring a small towel for drying their finished scarf. Cost is $25 per person. Space is limited!
URL:https://www.visitsedaliamo.com/event/third-thursday-class-nuno-felted-scarf/
LOCATION:Liberty Center Association for the Arts\, 111 West 5th Street\, Sedalia\, MO\, 65301\, United States
ATTACH;FMTTYPE=image/jpeg:https://www.visitsedaliamo.com/wp-content/uploads/2025/11/Felting-pix-01.jpg
END:VEVENT
BEGIN:VEVENT
DTSTART;VALUE=DATE:20250118
DTEND;VALUE=DATE:20250119
DTSTAMP:20260422T072911
CREATED:20241211T014217Z
LAST-MODIFIED:20251105T034514Z
UID:10002479-1737158400-1737244799@www.visitsedaliamo.com
SUMMARY:State Fair Spirit Classic
DESCRIPTION:Get ready to elevate your cheerleading experience to a whole new level with the State Fair Spirit Classic! Our competitions are a dazzling display of talent\, teamwork\, and tenacity\, where cheerleaders from across the state come together to create unforgettable moments. \nWhether you’re a spirited participant or an enthusiastic spectator\, the State Fair Spirit Classic promises a day filled with high-flying stunts\, mesmerizing routines\, and an electrifying atmosphere. With top-notch judges\, fantastic prizes\, and an enthusiastic crowd\, this is your chance to shine and make your mark in the world of cheerleading. Join us for a day of competition\, camaraderie\, and unforgettable memories. Be part of the cheerleading event of the year – the State Fair Spirit Classic! \nLowell Mohler Assembly Hall on the Missouri State Fairgrounds \n 
URL:https://www.visitsedaliamo.com/event/state-fair-spirit-classic/
END:VEVENT
BEGIN:VEVENT
DTSTART;TZID=America/Chicago:20250125T090000
DTEND;TZID=America/Chicago:20250126T153000
DTSTAMP:20260422T072911
CREATED:20241211T025713Z
LAST-MODIFIED:20251105T034515Z
UID:10002481-1737795600-1737905400@www.visitsedaliamo.com
SUMMARY:Show Me Reptile Show & Pet Expo
DESCRIPTION:https://showmereptileshow.com/sedalia-missouri-show-me-reptile-show-pet-expo \nReptiles\, Exotic Mammals\, Plants\, and Aquatics! \nHours:  9:00 – 3:30 \nAgriculture Building on the Missouri State Fairgrounds \n 
URL:https://www.visitsedaliamo.com/event/show-me-reptile-show-pet-expo/
END:VEVENT
BEGIN:VEVENT
DTSTART;TZID=America/Chicago:20250125T190000
DTEND;TZID=America/Chicago:20250125T230000
DTSTAMP:20260422T072911
CREATED:20241025T052021Z
LAST-MODIFIED:20251105T034509Z
UID:10002470-1737831600-1737846000@www.visitsedaliamo.com
SUMMARY:Aloha Tiki Bash - 2025 Gala
DESCRIPTION:Hula the Winter Blues away at our Aloha Tiki Bash! \nYou’ll be dusting the sand off your toes while sipping on island inspired cocktails\, and dreaming of all things Don Ho. \nEnjoy hors d’oeurves\, silent & live auctions\, casino tables & games\, and lots of fun and surprises.
URL:https://www.visitsedaliamo.com/event/aloha-tiki-bash-2025-gala/
LOCATION:Liberty Center Association for the Arts\, 111 West 5th Street\, Sedalia\, MO\, 65301\, United States
ATTACH;FMTTYPE=image/jpeg:https://www.visitsedaliamo.com/wp-content/uploads/2025/11/Tiki-Bash-small.jpg
END:VEVENT
END:VCALENDAR