BEGIN:VCALENDAR
VERSION:2.0
PRODID:-//Sedalia Convention &amp; Visitors Bureau - ECPv6.15.20//NONSGML v1.0//EN
CALSCALE:GREGORIAN
METHOD:PUBLISH
X-WR-CALNAME:Sedalia Convention &amp; Visitors Bureau
X-ORIGINAL-URL:https://www.visitsedaliamo.com
X-WR-CALDESC:Events for Sedalia Convention &amp; Visitors Bureau
REFRESH-INTERVAL;VALUE=DURATION:PT1H
X-Robots-Tag:noindex
X-PUBLISHED-TTL:PT1H
BEGIN:VTIMEZONE
TZID:America/Chicago
BEGIN:DAYLIGHT
TZOFFSETFROM:-0600
TZOFFSETTO:-0500
TZNAME:CDT
DTSTART:20220313T080000
END:DAYLIGHT
BEGIN:STANDARD
TZOFFSETFROM:-0500
TZOFFSETTO:-0600
TZNAME:CST
DTSTART:20221106T070000
END:STANDARD
BEGIN:DAYLIGHT
TZOFFSETFROM:-0600
TZOFFSETTO:-0500
TZNAME:CDT
DTSTART:20230312T080000
END:DAYLIGHT
BEGIN:STANDARD
TZOFFSETFROM:-0500
TZOFFSETTO:-0600
TZNAME:CST
DTSTART:20231105T070000
END:STANDARD
BEGIN:DAYLIGHT
TZOFFSETFROM:-0600
TZOFFSETTO:-0500
TZNAME:CDT
DTSTART:20240310T080000
END:DAYLIGHT
BEGIN:STANDARD
TZOFFSETFROM:-0500
TZOFFSETTO:-0600
TZNAME:CST
DTSTART:20241103T070000
END:STANDARD
BEGIN:DAYLIGHT
TZOFFSETFROM:-0600
TZOFFSETTO:-0500
TZNAME:CDT
DTSTART:20250309T080000
END:DAYLIGHT
BEGIN:STANDARD
TZOFFSETFROM:-0500
TZOFFSETTO:-0600
TZNAME:CST
DTSTART:20251102T070000
END:STANDARD
END:VTIMEZONE
BEGIN:VEVENT
DTSTART;TZID=America/Chicago:20240203T090000
DTEND;TZID=America/Chicago:20240203T180000
DTSTAMP:20260422T012115
CREATED:20240201T004436Z
LAST-MODIFIED:20251105T034334Z
UID:10002402-1706950800-1706983200@www.visitsedaliamo.com
SUMMARY:Show-me Bike Show
DESCRIPTION:It’s time for the Sedalia Motorcycle Association’s annual Show-Me Bike Show! The show will be held in the Agriculture Building on the Missouri State Fairgrounds on Saturday\, February 3rd. It will be a day of live music\, vendors\, concessions\, swap meet\, and MOTORCYCLES! Admission is $5 per person\, kids 12 and under get in free. Bike registration is 9:00 a.m. until noon\, $15 per bike. There will be 19 classes this year. The Ag Building in located in the southeast section of the fairgrounds.
URL:https://www.visitsedaliamo.com/event/show-me-bike-show-2/
LOCATION:Agriculture Building\, Missouri Fairgrounds\, Sedalia\, MO
ATTACH;FMTTYPE=image/jpeg:https://www.visitsedaliamo.com/wp-content/uploads/2025/11/showmebikeshow.jpg
END:VEVENT
BEGIN:VEVENT
DTSTART;VALUE=DATE:20230715
DTEND;VALUE=DATE:20230717
DTSTAMP:20260422T012115
CREATED:20230619T233859Z
LAST-MODIFIED:20251105T034140Z
UID:10002080-1689379200-1689551999@www.visitsedaliamo.com
SUMMARY:2023 Robert Woolery Sr. Memorial Pow Wow
DESCRIPTION:
URL:https://www.visitsedaliamo.com/event/2023-robert-woolery-sr-memorial-pow-wow/
LOCATION:Agriculture Building\, Missouri Fairgrounds\, Sedalia\, MO
ATTACH;FMTTYPE=image/jpeg:https://www.visitsedaliamo.com/wp-content/uploads/2025/11/Capture.jpg
END:VEVENT
BEGIN:VEVENT
DTSTART;TZID=America/Chicago:20230311T090000
DTEND;TZID=America/Chicago:20230312T160000
DTSTAMP:20260422T012115
CREATED:20230130T232642Z
LAST-MODIFIED:20251105T033730Z
UID:10001984-1678525200-1678636800@www.visitsedaliamo.com
SUMMARY:Show-Me Crafters Spring Craft Show
DESCRIPTION:Annual area-wide Show-Me Crafters Spring Craft Show
URL:https://www.visitsedaliamo.com/event/__trashed-2/
LOCATION:Agriculture Building\, Missouri Fairgrounds\, Sedalia\, MO
END:VEVENT
END:VCALENDAR