BEGIN:VCALENDAR
VERSION:2.0
PRODID:-//Sedalia Convention &amp; Visitors Bureau - ECPv6.15.20//NONSGML v1.0//EN
CALSCALE:GREGORIAN
METHOD:PUBLISH
X-ORIGINAL-URL:https://www.visitsedaliamo.com
X-WR-CALDESC:Events for Sedalia Convention &amp; Visitors Bureau
REFRESH-INTERVAL;VALUE=DURATION:PT1H
X-Robots-Tag:noindex
X-PUBLISHED-TTL:PT1H
BEGIN:VTIMEZONE
TZID:America/Chicago
BEGIN:DAYLIGHT
TZOFFSETFROM:-0600
TZOFFSETTO:-0500
TZNAME:CDT
DTSTART:20220313T080000
END:DAYLIGHT
BEGIN:STANDARD
TZOFFSETFROM:-0500
TZOFFSETTO:-0600
TZNAME:CST
DTSTART:20221106T070000
END:STANDARD
BEGIN:DAYLIGHT
TZOFFSETFROM:-0600
TZOFFSETTO:-0500
TZNAME:CDT
DTSTART:20230312T080000
END:DAYLIGHT
BEGIN:STANDARD
TZOFFSETFROM:-0500
TZOFFSETTO:-0600
TZNAME:CST
DTSTART:20231105T070000
END:STANDARD
BEGIN:DAYLIGHT
TZOFFSETFROM:-0600
TZOFFSETTO:-0500
TZNAME:CDT
DTSTART:20240310T080000
END:DAYLIGHT
BEGIN:STANDARD
TZOFFSETFROM:-0500
TZOFFSETTO:-0600
TZNAME:CST
DTSTART:20241103T070000
END:STANDARD
END:VTIMEZONE
BEGIN:VEVENT
DTSTART;TZID=America/Chicago:20230421T190000
DTEND;TZID=America/Chicago:20230421T210000
DTSTAMP:20260420T024604
CREATED:20230320T214501Z
LAST-MODIFIED:20251105T033943Z
UID:10002014-1682103600-1682110800@www.visitsedaliamo.com
SUMMARY:Casino Night
DESCRIPTION:The annual Sedalia Moose Lodge Casino Night! Tickets are $30 ea. and include $5\,000 play money for gaming! Use your play money winnings at the end of the night to bid on donated items!
URL:https://www.visitsedaliamo.com/event/casino-night-2/
LOCATION:Sedalia Moose Lodge 1494\, 119 Winchester Dr.\, Sedalia\, MO\, 65301\, United States
ATTACH;FMTTYPE=image/jpeg:https://www.visitsedaliamo.com/wp-content/uploads/2025/11/casino-nigt.jpg
END:VEVENT
BEGIN:VEVENT
DTSTART;TZID=America/Chicago:20230406T183000
DTEND;TZID=America/Chicago:20230406T200000
DTSTAMP:20260420T024604
CREATED:20230403T235110Z
LAST-MODIFIED:20251105T034036Z
UID:10002046-1680805800-1680811200@www.visitsedaliamo.com
SUMMARY:Easter Cookie Decorating Class
DESCRIPTION:Come decorate cookies for Easter using royal icing! This is geared towards beginners\, ages 8 to adult. We will be decorating egg and bunny shapes\, and will have 8 colors of icing available. 6 cookies is $15 or 12 cookies is $20. RSVP is required by April 1. Call or text Jennifer at 660-221-1440 to sign up. If you are not a member of the Moose lodge\, you are welcome to come as Jennifer’s guest!
URL:https://www.visitsedaliamo.com/event/easter-cookie-decorating-class/
LOCATION:Sedalia Moose Lodge 1494\, 119 Winchester Dr.\, Sedalia\, MO\, 65301\, United States
ATTACH;FMTTYPE=image/jpeg:https://www.visitsedaliamo.com/wp-content/uploads/2025/11/4.6.23-5.jpg
END:VEVENT
BEGIN:VEVENT
DTSTART;TZID=America/Chicago:20230311T190000
DTEND;TZID=America/Chicago:20230311T230000
DTSTAMP:20260420T024604
CREATED:20230308T005325Z
LAST-MODIFIED:20251105T033940Z
UID:10002012-1678561200-1678575600@www.visitsedaliamo.com
SUMMARY:Southern Smoke Band
DESCRIPTION:
URL:https://www.visitsedaliamo.com/event/southern-smoke-band/
LOCATION:Sedalia Moose Lodge 1494\, 119 Winchester Dr.\, Sedalia\, MO\, 65301\, United States
ATTACH;FMTTYPE=image/jpeg:https://www.visitsedaliamo.com/wp-content/uploads/2025/11/moose.jpg
END:VEVENT
BEGIN:VEVENT
DTSTART;TZID=America/Chicago:20230310T180000
DTEND;TZID=America/Chicago:20230310T210000
DTSTAMP:20260420T024604
CREATED:20230228T211101Z
LAST-MODIFIED:20251105T033825Z
UID:10001480-1678471200-1678482000@www.visitsedaliamo.com
SUMMARY:Trivia Night
DESCRIPTION:Open Door Service Centers \nFood for thought
URL:https://www.visitsedaliamo.com/event/trivia-night/
LOCATION:Sedalia Moose Lodge 1494\, 119 Winchester Dr.\, Sedalia\, MO\, 65301\, United States
ATTACH;FMTTYPE=image/jpeg:https://www.visitsedaliamo.com/wp-content/uploads/2025/11/trivia-night.jpg
END:VEVENT
END:VCALENDAR