BEGIN:VCALENDAR
VERSION:2.0
PRODID:-//Sedalia Convention &amp; Visitors Bureau - ECPv6.15.20//NONSGML v1.0//EN
CALSCALE:GREGORIAN
METHOD:PUBLISH
X-WR-CALNAME:Sedalia Convention &amp; Visitors Bureau
X-ORIGINAL-URL:https://www.visitsedaliamo.com
X-WR-CALDESC:Events for Sedalia Convention &amp; Visitors Bureau
REFRESH-INTERVAL;VALUE=DURATION:PT1H
X-Robots-Tag:noindex
X-PUBLISHED-TTL:PT1H
BEGIN:VTIMEZONE
TZID:America/Chicago
BEGIN:DAYLIGHT
TZOFFSETFROM:-0600
TZOFFSETTO:-0500
TZNAME:CDT
DTSTART:20230312T080000
END:DAYLIGHT
BEGIN:STANDARD
TZOFFSETFROM:-0500
TZOFFSETTO:-0600
TZNAME:CST
DTSTART:20231105T070000
END:STANDARD
BEGIN:DAYLIGHT
TZOFFSETFROM:-0600
TZOFFSETTO:-0500
TZNAME:CDT
DTSTART:20240310T080000
END:DAYLIGHT
BEGIN:STANDARD
TZOFFSETFROM:-0500
TZOFFSETTO:-0600
TZNAME:CST
DTSTART:20241103T070000
END:STANDARD
BEGIN:DAYLIGHT
TZOFFSETFROM:-0600
TZOFFSETTO:-0500
TZNAME:CDT
DTSTART:20250309T080000
END:DAYLIGHT
BEGIN:STANDARD
TZOFFSETFROM:-0500
TZOFFSETTO:-0600
TZNAME:CST
DTSTART:20251102T070000
END:STANDARD
END:VTIMEZONE
BEGIN:VEVENT
DTSTART;TZID=America/Chicago:20240224T170000
DTEND;TZID=America/Chicago:20240224T210000
DTSTAMP:20260421T234135
CREATED:20240201T004538Z
LAST-MODIFIED:20251105T034323Z
UID:10002403-1708794000-1708808400@www.visitsedaliamo.com
SUMMARY:Open Door's Minute To Win It - Game Night Challenge
DESCRIPTION:Most outrageously fun\, Minute To Win It Game Night Challenge event.\nIt might get a Bit Dicey\, but Stick To It\, and Face The Cookies! \nTeams of 2 to 6 adults (6 preferred)\nCompete in the fun and games \nEarn prizes and win bragging rights! \nWe appreciate your support\,\nTeam Open Door
URL:https://www.visitsedaliamo.com/event/open-doors-minute-to-win-it-game-night-challenge/
LOCATION:Sedalia Shrine Club\, 1375 Elm Hills Blvd\, Sedalia\, MO\, 65301\, United States
ATTACH;FMTTYPE=image/png:https://www.visitsedaliamo.com/wp-content/uploads/2025/11/Minute-to-Win-It.png
END:VEVENT
END:VCALENDAR